BEGIN:VCALENDAR
PRODID:-//Det Danske Spejderkorps//NONSGML Gruppeweb//EN
VERSION:2.0
CALSCALE:GREGORIAN
X-PUBLISHED-TTL:PT1H
X-WR-CALNAME:Familiespejd
METHOD:PUBLISH
BEGIN:VEVENT
UID:gruppeweb.dk:4419:event:1177
DTSTAMP:20260420T023753Z
LAST-MODIFIED:20250816T082033Z
SUMMARY:Fælles gruppetur (tilmelding følger)
DESCRIPTION:\n
URL:https://www.polarstjernen.dk/begivenhed/faelles-gruppetur-tilmelding-fo
 elger
DTSTART;VALUE=DATE:20260612
DTEND;VALUE=DATE:20260615
LOCATION:Polarstjernen\, Stenløsevej 68\, Hjallese\, 5260 Odense S
END:VEVENT
BEGIN:VEVENT
UID:gruppeweb.dk:4419:event:1181
DTSTAMP:20260420T023753Z
LAST-MODIFIED:20241028T125348Z
SUMMARY:Sct. Hans Aften (tilmelding følger)
DESCRIPTION:\n
URL:https://www.polarstjernen.dk/begivenhed/sct-hans-aften-tilmelding-foelg
 er
DTSTART;VALUE=DATE:20260623
LOCATION:Polarstjernen\, Stenløsevej 68\, Hjallese\, 5260 Odense S
END:VEVENT
BEGIN:VEVENT
UID:gruppeweb.dk:4419:event:1182
DTSTAMP:20260420T023753Z
LAST-MODIFIED:20250618T073107Z
SUMMARY:Sankt Hans aften
DESCRIPTION:\n
URL:https://www.polarstjernen.dk/begivenhed/sankt-hans-aften
DTSTART:20250623T150000Z
DTEND:20250623T190000Z
LOCATION:Polarstjernen\, Stenløsevej 68\, Hjallese\, 5260 Odense S
END:VEVENT
BEGIN:VEVENT
UID:gruppeweb.dk:4419:event:1225
DTSTAMP:20260420T023753Z
LAST-MODIFIED:20260109T141551Z
SUMMARY:Grupperådsmøde
DESCRIPTION:*Dagsorden til grupperådsmøde søndag\nd. 1. februar kl. 13-1
 5*\n\n\n\nMens forældrene er til møde\, vil\nder for spejderne være et 
 lille løb på grunden og i den lille skov\, hvor\ntroppen står på poste
 rne. Vi serverer kaffe og kage til forældrene og  \nkakao og\nkage til sp
 ejderne. Vi vil derfor gerne bede om tilmelding på dette link:  \n https
 ://medlem.dds.dk/event/id/66279/register.  Senest 26. januar.\n\n\n\nMød
  endelig op og vis interesse\nfor vores arbejde!! Det er så rart\, når d
 er er deltagelse i et møde\, vi er\nforpligtiget til at holde😊. Ingen 
 skal være nervøse for at blive\npresset til at melde sig til noget\, de 
 ikke har lyst til\, da vi finder\nkandidater til alle poster inden mødet.
 \n\n\n\nVi vil dog gerne gøre ekstra\nopmærksom på\, at vi bl.a. skal v
 ælge *ny kasserer\, revisor og*  \n*forældrerepræsentant\,*\nså alle b
 edes overveje grundigt\, om de kunne se sig selv gøre en indsats  \nfor\n
 gruppen på en af disse poster\, og henvende sig som beskrevet – eller t
 il  \nen af\ndin spejders ledere. Læs desuden januar udgaven af Polarpost
 en.\n\n\n\n1.     \nForperson Søren byder velkommen\n\n\n\n2.   
   \nValg af dirigent og referent\n\n\n\n3.     \nberetning fra grup
 pen (er vedhæftet) v. Gitte\n\n\n\n4.     \nRegnskab for 2025 v/ Lis
 bet. Tilsendes senest en\nuge før.\n\n\n\n5.     \nIndkomne forslag 
 v/ Søren. Forslag skal være forpersonen\ni hænde senest 2 uger før mø
 det. Forslag sendes til soren@polarstjernen.dk\n\n\n\n6.     \nUdvikl
 ingsplanen fremlægges og godkendes (er\nvedhæftet) Forslag til ændringe
 r skal være forpersonen i hænde senest 2  \nuger\nfør mødet. Skriv til
  Soren@polarstjernen.dk\n\n\n\n7.     \nBudget for 2026 og 2027 samt 
 kontingent for 2026.\nV/ Lisbet. Budget udsendes senest en uge før mødet
 .\n\n\n\n8.     \nBeretning fra grenene på et lille løb i skoven.\n
 Tag varmt tøj med!\n\n\n\n9.     \nFastsættelse af antal i bestyrel
 sen\n\n\n\n10.  \nvalg til bestyrelsen:\n\n\n\nKasserer: Sofie Nielsen 
 ønsker at blive\nafløst på kasserer posten\n\n\n\nFormand: Søren Elmbo
  er på valg.\n\n\n\nForældre: Per\nFeddersen er på valg\, genopstiller 
 ikke. \nKontakt gitte@polarstjernen.dk [1]\nsenest 2 uger inden mødet\, 
 hvis du gerne vil stille op\n\n\n\nUnge: Gerhard og\nGertrud er ikke på v
 alg\, men Gerhard forlader Odense om ½ år\, så  \nsuppleant eller\nny u
 ng søges.  Kontakt gitte@polarstjernen.dk [2] hvis du gerne\nvil stille 
 op.\n\n\n\nLedere: Lise Knudsen\ner på valg\, vil gerne afløses. Gitte S
 andal er ikke på valg. Jonhild er  \nikke på\nvalg.\n\n\n\n11.   Valg\
 naf revisor.\n\n\n\n12.   Valg\naf 2 stemmeberettigede og 2 uden stemmer
 et til korpsrådsmødet 14.-16.  \nnovember.\nSkriv til gitte@polarstjerne
 n.dk [3]\nsenest 2 uger før mødet\, hvis du gerne vil stille op.\n\n\n\n
 13.   Valg\naf 5 stemmeberettigede til divisionsrådsmødet en aften i a
 pril. Skriv til  \ngitte@polarstjernen.dk [4]\, hvis du gerne\nvil stille 
 op\n\n\n\n14.   SL26:\noplæg om Spejdernes Lejr 2026 v. Jonhild og Gitt
 e\n\n\n\n\n15.   Evt.\n\n\n\n\n[1] mailto:gitte@polarstjernen.dk\n[2] ma
 ilto:gitte@polarstjernen.dk\n[3] mailto:gitte@polarstjernen.dk\n[4] mailto
 :gitte@polarstjernen.dk\n
URL:https://www.polarstjernen.dk/begivenhed/grupperaadsmoede-1
DTSTART:20260201T120000Z
DTEND:20260201T140000Z
LOCATION:Polarstjernen\, Stenløsevej 68\, Hjallese\, 5260 Odense S
END:VEVENT
BEGIN:VEVENT
UID:gruppeweb.dk:4419:event:1348
DTSTAMP:20260420T023753Z
LAST-MODIFIED:20250219T183715Z
SUMMARY:Arbejdsuge
DESCRIPTION:\n
URL:https://www.polarstjernen.dk/begivenhed/arbejdsuge
DTSTART;VALUE=DATE:20250428
DTEND;VALUE=DATE:20250501
LOCATION:Polarstjernen\, Stenløsevej 68\, Hjallese\, 5260 Odense S
END:VEVENT
BEGIN:VEVENT
UID:gruppeweb.dk:4419:event:1353
DTSTAMP:20260420T023753Z
LAST-MODIFIED:20250312T203055Z
SUMMARY:Sct. Georgsdag
DESCRIPTION:\n\nSCT. GEORGSDAG 23. APRIL 2025 KL. 17-19\n\n\n\n\n\n\n\nTrad
 itionen tro skal vi fejre Sct. Georgs dag sammen alle\nsammen – og foræ
 ldre og søskende er også inviteret.\n\n\n\nDagen kaldes også for spejde
 rdagen\, og vi bruger den til at\ntænke over spejderloven\, spejderfælle
 sskabet og ikke mindst vores  \nforbillede\nSct. Georg.\n\n\n\nVi skal\n\n
 \n\n-         \nGå i optog ud i skoven\n\n\n\n-        
  \nHøre og se sagnet om Sct. Georg\n\n\n\n-         \nAflægge 
 spejderløftet\n\n\n\n-         \nLave spejderlovs-relaterede leg
 e\n\n-         \nSpise hotdogs og hygge (det er jo forår\, så\n
 vejret er selvfølgelig fantastisk😊)\n\n       Medbring: kop og tal
 lerken\n\n\nVi skal bede om tilmelding her:\nLINK - TILMELDING [1]\n\n\n 
       Senest 19/4 så vi kan nå at købe det korrekte antal pølser og
   \nbrød😊\n\n\n\nMed spejder hilsen Lederne i Polarstjernen\n\n\n\n\n
  \n\n\n\n\n \n\n\n\n[1] https://medlem.dds.dk/event/id/60015/register\n
URL:https://www.polarstjernen.dk/begivenhed/sct-georgsdag-3
DTSTART:20250423T150000Z
DTEND:20250423T170000Z
LOCATION:Polarstjernen\, Stenløsevej 68\, Hjallese\, 5260 Odense S
END:VEVENT
BEGIN:VEVENT
UID:gruppeweb.dk:4419:event:1362
DTSTAMP:20260420T023753Z
LAST-MODIFIED:20250410T151047Z
SUMMARY:Spejderdag
DESCRIPTION:På Spejderdag d. 11/5 kl. 14-16.30 holder vi åbent hus for b
 ørn og voksne\,  \nder kunne tænke sig at blive spejdere. De skal på en
  slags  \nspejderolympiade\, og for at hjælpe dem på de forskellige disc
 ipliner\, har  \nde selvfølgelig behov for hjælp fra ægte spejdere.\n\n
 Vi inviterer jer derfor til at komme og være med til at få de besøgende
   \nrundt på grunden til diverse poster og til at fortælle dem om at væ
 re  \nspejder.\n\nVi ved ikke\, hvor mange der kommer - men hvis der ikke 
 skulle komme så  \nmange\, er vi jo gode til at hygge os alligevel😊\n\
 n
URL:https://www.polarstjernen.dk/begivenhed/spejderdag
DTSTART:20250511T120000Z
DTEND:20250511T143000Z
LOCATION:Polarstjernen\, Stenløsevej 68\, Hjallese\, 5260 Odense S
END:VEVENT
BEGIN:VEVENT
UID:gruppeweb.dk:4419:event:1371
DTSTAMP:20260420T023753Z
LAST-MODIFIED:20250515T095459Z
SUMMARY:Gruppetur
DESCRIPTION:INDBYDELSE TIL GRUPPETUR PÅ ØGHAVEN /\nI HESHØJ\n\n\n\n20.-2
 2. JUNI 2025\n\n\n\nI år tager\nmikroer\, minier\, juniorer\, trop og kla
 n på tur til Øghaven /Heshøj\, og vi\nhåber\, at det bliver en tilbage
 vendende tradition. Formålet er – ud over  \nat\nhave det sjovt – at 
 lære hinanden endnu bedre at kende på kryds og tværs  \naf\ngrenene\, s
 å vi både kender dem\, vi skal rykke op til\, og dem\, der rykker op  \n
 til\nos!\n\n\n\nVi skal også\nudfordres\, og vi skal lære området bedre
  at kende. Vi skal lære\, hvordan  \nvi kan\nkomme derud\, uden at blive 
 kørt af forældre\, og vi skal overraskes!\n\n\n\nPak til\novernatning i 
 shelter eller telt (hvis vi bliver mange\, kan ikke alle være i\nsheltern
 e)\, og ellers til weekendovernatning udendørs. HUSK spisegrej!\n\n\n\nMe
 dbring\nmadpakke (junior\, trop og klan til fredag aften\, mikro og mini t
 il lørdag\nfrokost)\n\n\n\n*Program:*\n\n\n\n*Fredag\nkl. 17* kører juni
 or\,\ntrop og klan fra Stenløsevej til Øghaven på cykel. Man kører med
  sin  \nbagage på\ncyklen. Det er ca. 12 km. Vi hejser herefter telte\, s
 piser aftensmad og  \nhygger\n\n\n\n*Lørdag\nkl. 8.30* går mikroer\nog m
 inier fra Dalumcentret\, hvorfra der er 10 km derud. Bagagen bliver kørt\
 ,\nmen man skal have lille rygsæk med regntøj\, drikkedunk og madpakke m
 ed på\nryggen.\n\n\n\nLørdag kl.\n13-16 er der opgaveløb i skoven omkri
 ng Heshøj i blandede grupper\n\n\n\nLørdag kl.\n17 laver vi aftensmad\, 
 spiser og vasker op\n\n\n\nLørdag kl.\n20-21.30 er der fælles lejrbål m
 ed sang\, sketches og hygge. Herefter går  \nvi i\nposerne\n\n\n\nSøndag
  kl. 7\nstår vi op\, og kl. 8 er der morgenmad\, opvask og oprydning (tel
 te slås ned)\n\n\n\nSøndag kl.\n9.30 spiller vi spejder-rundbold med ind
 byggede opgaver!\n\n\n\nSøndag kl.\n11.30 spiser vi frokost og rydder op.
  Mikroer og minier går fra Øghaven ca  \nkl.\n12.\n\n\n\nSøndag kl.\n13
  kører cyklerne fra Øghaven\, og mikroer og minier hentes fra  \nBreding
 sgyden\n10. De vil være på Stenløsevej ca. kl. 13.30\n\n\n\n*Søndag\nk
 l. ca. 14* er vi\ntilbage på Stenløsevej\, og vil gerne have hjælp til 
 at få telte mm. på  \nplads\n\n\n\nVi håber\, at\nrigtig mange af jer h
 ar lyst til at tage med – det bliver spas!\n\n\n\nTilmelde jer\nher:  
  https://medlem.dds.dk/event/id/61681/register.\nSenest 11/6\n\n\n\nMed\n
 spejder hilsen gruppetursudvalget: Marcus\, Jonhild\, Freja\, Mini-Lise\, 
 Linnea  \nog\nGitte\n\n\n\n \n\n \n\n \n\n \n\n\n \n\n
URL:https://www.polarstjernen.dk/begivenhed/gruppetur
DTSTART:20250620T150000Z
DTEND:20250622T120000Z
LOCATION:Heshøj\, Fladbjergvej 35\, 5250 Odense SV
END:VEVENT
BEGIN:VEVENT
UID:gruppeweb.dk:4419:event:1378
DTSTAMP:20260420T023753Z
LAST-MODIFIED:20250522T184140Z
SUMMARY:Evt. Spejderdag
DESCRIPTION:\n
URL:https://www.polarstjernen.dk/begivenhed/evt-spejderdag
DTSTART;VALUE=DATE:20260510
LOCATION:Polarstjernen\, Stenløsevej 68\, Hjallese\, 5260 Odense S
END:VEVENT
BEGIN:VEVENT
UID:gruppeweb.dk:4419:event:1384
DTSTAMP:20260420T023753Z
LAST-MODIFIED:20250626T071628Z
SUMMARY:Oprykning
DESCRIPTION:OPRYKNING 2025\n\n\n\n15. AUGUST KL. 17-21 PÅ STENLØSEVEJ\n\n
 \n\nOprykningsarrangementet\ner for alle Polarstjerner - også de\, der ik
 ke skal rykkes op\, forældre og\nsøskende.\n\n\n\nVi glæder os\ntil at 
 se jer til en hyggelig aften med aktiviteter for spejdere og  \nsøskende\
 ,\narbejde for forældrene og mad og bålhygge for alle😊\n\n\n\nJuniore
 r\n(også de ny-oprykkede) og trop har overnatning (husk liggeunderlag\,  
 \nsovepose\,\nnattøj og tandbørste). Troppen overnatter ved hytten\, jun
 iorerne i\nSortebrødrenes hytte.\n*Alle bedes medbringe spisegrej\, inkl.
  kop og\nviskestykke. Forældre bedes medbringe haveredskaber\, boremaskin
 e\, tøj der  \nkan\narbejdes i og lign.***\n\n\n\nAftenens\nprogram:\n\n\
 n\nKl. 17: vi\nmødes ved flagstangen og får hejst flaget og budt velkomm
 en.\n\n\n\nSpejdere og\nsøskende spiller/leger Spejder-Stratego i skoven 
 under ledelse af Filip\n\n\n\nForældre\nmelder ind på opgaver\, som bl.a
  vil være:\n\n\n\n-       \nHjælpe\nmed at lave mad og kaffe\n\n\
 n\n-       \nSætte\nborde-bænkesæt op\n\n\n\n-       \nRe
 ngøring\ni køkkenskabene\n\n\n\n-       \nRengøring\ni toiletbyg
 ningen\n\n\n\n-       \nLugning\npå fliser mm.\n\n\n\n-     
   \nKlatmaling\naf toiletbygningen udendørs og maling af handicaptoilet
 tet indendørs\n\n\n\n-       \nVinduespudsning\n\n\n\n-     
   \nHugge\nog kløve brænde (vi har to brændekløvere)\n\n\n\n-   
     \nReparere\npå borde-bænkesættene\n\n\n\nKl. 18.15\nfælles spi
 sning\, opvask og oprydning\n\n\n\nKl. 19.30\nLejrbål med underholdning f
 ra grenene\, uddeling af årsstjerner og  \noprykninger.\n\n\n\n     
             Kaffe og kage nydes til\nlejrbålet\n\n\n\nKl. 21.0
 0\nTak for i aften (scroll videre for de sidste informationer!)\n\n\n\nArr
 angementet\ner gratis for spejderne\, og koster 30 kr. for forældre og s
 øskende. Dette\nbetales på mobile pay: 0835EQ\n\n\n\nTilmelding senest 8
 /8-25\n\n\n\n \n\n \n\n \n\n \n\n \n\n \n\n\n \n\n
URL:https://www.polarstjernen.dk/begivenhed/oprykning-3
DTSTART:20250815T150000Z
DTEND:20250815T190000Z
LOCATION:Polarstjernen\, Stenløsevej 68\, Hjallese\, 5260 Odense S
END:VEVENT
BEGIN:VEVENT
UID:gruppeweb.dk:4419:event:1446
DTSTAMP:20260420T023754Z
LAST-MODIFIED:20260213T224220Z
SUMMARY:Tyrsbjergmarch 2025
DESCRIPTION:DDS Ryds Gruppe inviterer alle til en vandretur på vejene og s
 tierne omkring  \nTyrsbjerg Spejdercenter - om du er spejder eller ej\, s
 å er du velkommen!\n\n*PRIS*\nDet koster kun 50 kr. pr. person at deltage
 . Med i prisen får du masser af  \nnatur og motion samt et sejt Tyrbjergm
 archmærke. \nDu betaler kontant eller med mobilepay\, når du møder op\
 n\n\n*\n**TILDMELDING\n**OBS - Ingen forhåndstilmelding nødvendig.\n**\n
 Mød op ved Tyrsbjerg Spejdercenter\, Tyrsbjergvej 65\, 5210 Odense.\n**\n
 **\n**TIDSPUNKT*\nMarchen foregår fra kl. 6.00 til 18.00. Man kan møde o
 p i hele dette  \ntidsrum. Dem der vil gå langt bør dog møde tidligt fo
 r at nå det. Dem  \nder vil gå langt bør møde tidligt for at nå det.
 \nVi anbefaler følgende mødetidspunkter:\n55 km & 40 km: Kl. 6.00 - 6.15
 \n28 km & 17 km: kl. 9.00 - 9.15\n10 km & 5 km: kl. 10.00*\n**\n*\n/*NYHED
  2025: BAMZY-HEJK FOR DE MINDSTE*/\n\n/Vi vil rigtig gerne have flere fami
 liespejdere og børnehave-børn med til  \nmarchen\, og derfor prøver vi 
 i år med et nyt mærke: BAMZY-mærket.\nDe små spejdere skal på en lill
 e hejk sammen med deres familie. De har  \nderes rygsæk på med madpakke\
 , vand\, evt. regnjakke og deres sovedyr. Vi  \nspiser madpakke halvvejs. 
 Ruten er ca. 2\,5 km. En dejlig dag i naturen. Alle  \nbørn får et BAMZY
 -mærke efter vel gennemført tur.\nTuren koster 50 kr. pr. barn. Afgang f
 ra hytten kl. 10.00./\n\n\n\n\n\n*MÆRKE TIL UNIFORMEN*\nAlle der gennemf
 ører modtager et Tyrsbjergmarchmærke til at sy på  \nuniformen.\nDer er
  mærker for 5 km\, 10 km\, 17 km\, 28 km\, 40 km og 55 km.\n\nGå sammen 
 med andre: Udfordre dig selv med hvor langt du kan gå - eller  \ntag bar
 e en hyggetur\n\n\n\nUdfordre dig selv med hvor langt du kan gå\; men sø
 rg samtidig for at have  \nnogle at gå sammen med. Nogle grene arrangere
 r fælles afgang på et  \nbestemt tidspunkt. Tal sammen med hinanden om\,
  hvor langt I vil gå og  \nhvornår I vil starte. Invitér familie\, ven
 ner\, kolleger og foreninger med.  \nDet er spejderne og deres forældres 
 eget ansvar at deres barn har nogle at  \ngå sammen med.\n\n\n\n\n*FORPLE
 JNING*\n\n\n\nDu/I sørger selv for mad og drikke\nPå alle ruter er der v
 anddepoter\, der giver mulighed for at fylde  \nvanddunke/-flasker med fri
 sk vand.\n\n\n\nVed start/mål på Tyrsbjerg Spejdercenter står caféen k
 lar til at forsyne  \njer med sodavand\, the\, kaffe og kage. Alt sammen t
 il rimelige priser.\n\n\n\nKagebagning\n\n\n\nKager til at sælge i cafée
 n er meget velkomne 😊\n\n \n\n\n\n\n\n\n\n\nParkering\n\n\n\nKom gern
 e på cykel\, da vores parkeringsareal som bekendt er begrænset. Der  \nm
 å ikke parkeres langs Tyrsbjergvej.\n\n\n\n     \nOvernatning\n\nFør 
 og efter marchen er det muligt at overnatte i eget telt. Kontakt  \nGnist
  for nærmere oplysninger: Gnist (Niels Vestergaard)\, tlf. 22 13 15  \n9
 5\, gnist@ryds.dk [1]\n\nhttps://www.facebook.com/events/1405945687416407
  [2]\n\n\n[1] mailto:gnist@ryds.dk\n[2] https://www.facebook.com/events/14
 05945687416407\n
URL:https://www.polarstjernen.dk/begivenhed/tyrsbjergmarch-2025
DTSTART:20250914T040000Z
DTEND:20250914T160000Z
LOCATION:Tyrsbjerg Spejdercenter\, Tyrsbjergvej 65\, 5210 Odense
END:VEVENT
BEGIN:VEVENT
UID:gruppeweb.dk:4419:event:1506
DTSTAMP:20260420T023754Z
LAST-MODIFIED:20251118T100251Z
SUMMARY:Juletur
DESCRIPTION:*Hej\nalle spejdere i Polarstjernen***\n\n\n\n \n\nJulen er fy
 ldt med traditioner\, så derfor skal\nalle spejder i Polarstjernen igen p
 å juletur!\n\n\n\nTradition tro\, skal vi til Skåstrup Strand\nved Bogen
 se.\n\n\n\nJuleturen afholdes d*. 28. -30. november *i hytten Skåstrup St
 rand (se  \nadressen næste\nside).\n\n\n\nTuren er betalt af turkontingen
 t.\n\n\n\nHerunder ser du programmet og link til\ntilmelding. På næste s
 ide er der pakkeliste og kort.\n\n\n\n* *\n\n*Fredag*\n\n\n\n17.30 Junior
 \, trop og klan mødes på\nStenløsevej og kører samlet*. *Kryds af\, om
  du kan køre.\n\n\n\n*HUSK madpakke.*\n\n\n\n              
     Efter\nindkvartering og madpakkespisning laver troppen løb for jun
 iorerne. Inden\nsengetid\n\n\n\n                  vanker\
 nder æbleskiver\n\n\n\n* *\n\n*Lørdag*\n\n\n\n08.30 Mikroer og minier m
 ødes på Stenløsevej\nog kører samlet. Kryds af\, om du kan køre.\n\n\
 n\n09.30 Mikroer og minier ankommer og finder\nsovepladser.\n\n\n\n10.15 J
 ulemanden er blevet kidnappet – mon I\nkan skaffe penge til at befri ham
 ??? Sjov og spas i blandede hold på tværs  \naf\ngrenene.\n\n\n\n12.00/ 
 12.30 Frokost\n\n\n\n14.00 Familiespejd\nankommer\n\n\n\n         
 Juleaktiviteter\, periode 1.\n\n\n\n15.00 Juleaktiviteter\, periode 2\n\n\
 n\n16.00 Juleaktiviteter\, periode 3.\n\n\n\n17.15 Farvel og på gensyn ti
 l familiespejd\n\n\n\n                  Oprydning\nog bor
 ddækning\n\n\n\n18.00 Aftensmad: Flæskesteg og ris à la mande\nmed mand
 elgave\n\n\n\n         19.30 Julefilm\npå skærmen\n\n\n\n21.00 U
 retfærdighedsbingo - Bingo for junior\,\ntrop og klan.\n\n\n\n     
    \nSengetid med godnat læsning for mikroer og minier.\n\n\n\n23.00 G
 odnat til de\, der ikke allerede sover.\n\n\n\n* *\n\n*Søndag*\n\n\n\n07
 .00 Op og gaver.\n\n\n\n         08.00  Morgenmad\n\n\n\n09.00\nOp
 rydning\n10.00 Afhentning. Der koordineres kørsel for alle\, så kryds af
 \, om du kan  \nhente\n\n\n\n---------------------------------------------
 ------------------------------------------------------------------------\n
 \n\n\n*TILMELDING via\ndette link:*\n\n\n\n\n \n\n\n* *Senest\n12/11**\n
 \n\n\n \n\nPå linket vil I blive bedt om at tage stilling til\, om I kan
 \nkøre fredag (junior\, trop\, klan)\, om I kan køre lørdag morgen (mik
 roer og\nminier)\, om I kan hente søndag morgen (alle)\, og om I kan kør
 e med trailer.\nHvis man kører\, men ikke kan have andre med\, skriver ma
 n: kan køre med 1\nspejder.\n\n\n\nDesuden om forældre har mulighed for 
 at komme og hjælpe med\nmadlavning til frokost fra kl. 10-14 og/ eller af
 tensmad fra kl. 15-20 og om  \nI\nkan hjælpe med indkøb\n\n\n\nSkriv des
 uden hvis spejderen har medicin med\, eller der er\nkosthensyn\, sengevæd
 ning eller andet.\n\n\n\n\n \n\n\n*Pakkeliste *\n\n\n\nSovepose\, lagen\,
 \nlille hovedpude\, toiletsager\, nattøj\, regntøj\, varme støvler\, *v
 armt\nudendørstøj*\, et ekstra sæt tøj\, inde sko\, nissehue\, lommely
 gte\, evt.\nsovedyr\, 1 pakke til ca. 25 kr. med snor/ gavebånd om\, så 
 den kan hænges  \nop\,\nliggeunderlag (da der måske ikke er sengepladser
  til alle).\n\n\n\n* *\n\n*Adressen: *\n\n\n\nStrandgyden 28\,\n\n\n\n540
 0 Bogense\n\n\n\n\n \n\n\n<v:shapetype id="_x0000_t75" coordsize="21600\,
 21600" o:spt="75"  \no:preferrelative="t" path="m@4@5l@4@11@9@11@9@5xe" fi
 lled="f" stroked="f">\n\n\n\n   <v:f eqn="sum @0 1 0">\n   <v:f eqn="sum 0
  0 @1">\n   <v:f eqn="prod @2 1 2">\n   <v:f eqn="prod @3 21600 pixelWidth
 ">\n   <v:f eqn="prod @3 21600 pixelHeight">\n   <v:f eqn="sum @0 0 1">\n 
   <v:f eqn="prod @6 1 2">\n   <v:f eqn="prod @7 21600 pixelWidth">\n   <v:
 f eqn="sum @8 21600 0">\n   <v:f eqn="prod @7 21600 pixelHeight">\n   <v:f
  eqn="sum @10 21600 0">\n\n\n\n\n
URL:https://www.polarstjernen.dk/begivenhed/juletur-7
DTSTART:20251128T163000Z
DTEND:20251130T090000Z
LOCATION:Skåstrup strand\, Strandgyden 28\, 5400 Bogense 
END:VEVENT
BEGIN:VEVENT
UID:gruppeweb.dk:4419:event:1455
DTSTAMP:20260420T023754Z
LAST-MODIFIED:20260213T224202Z
SUMMARY:Familiespejd møde
DESCRIPTION:\n
URL:https://www.polarstjernen.dk/begivenhed/familiespejd-moede-4
DTSTART:20251005T073000Z
DTEND:20251005T100000Z
LOCATION:Polarstjernen\, Stenløsevej 68\, Hjallese\, 5260 Odense S
END:VEVENT
BEGIN:VEVENT
UID:gruppeweb.dk:4419:event:1456
DTSTAMP:20260420T023754Z
LAST-MODIFIED:20260213T224143Z
SUMMARY:Familiespejd møde
DESCRIPTION:\n
URL:https://www.polarstjernen.dk/begivenhed/familiespejd-moede-5
DTSTART:20260607T073000Z
DTEND:20260607T100000Z
LOCATION:Polarstjernen\, Stenløsevej 68\, Hjallese\, 5260 Odense S
END:VEVENT
BEGIN:VEVENT
UID:gruppeweb.dk:4419:event:1457
DTSTAMP:20260420T023754Z
LAST-MODIFIED:20260213T224155Z
SUMMARY:Familiespejd møde
DESCRIPTION:\n
URL:https://www.polarstjernen.dk/begivenhed/familiespejd-moede-6
DTSTART:20260104T083000Z
DTEND:20260104T110000Z
LOCATION:Polarstjernen\, Stenløsevej 68\, Hjallese\, 5260 Odense S
END:VEVENT
BEGIN:VEVENT
UID:gruppeweb.dk:4419:event:1458
DTSTAMP:20260420T023754Z
LAST-MODIFIED:20260213T224200Z
SUMMARY:Familiespejd møde
DESCRIPTION:\n
URL:https://www.polarstjernen.dk/begivenhed/familiespejd-moede-7
DTSTART:20251102T083000Z
DTEND:20251102T110000Z
LOCATION:Polarstjernen\, Stenløsevej 68\, Hjallese\, 5260 Odense S
END:VEVENT
BEGIN:VEVENT
UID:gruppeweb.dk:4419:event:1459
DTSTAMP:20260420T023754Z
LAST-MODIFIED:20260213T224146Z
SUMMARY:Familiespejd møde
DESCRIPTION:\n
URL:https://www.polarstjernen.dk/begivenhed/familiespejd-moede-8
DTSTART:20260503T073000Z
DTEND:20260503T100000Z
LOCATION:Polarstjernen\, Stenløsevej 68\, Hjallese\, 5260 Odense S
END:VEVENT
BEGIN:VEVENT
UID:gruppeweb.dk:4419:event:1461
DTSTAMP:20260420T023754Z
LAST-MODIFIED:20260213T224153Z
SUMMARY:Familiespejd møde
DESCRIPTION:\n
URL:https://www.polarstjernen.dk/begivenhed/familiespejd-moede-10
DTSTART:20260201T083000Z
DTEND:20260201T110000Z
LOCATION:Polarstjernen\, Stenløsevej 68\, Hjallese\, 5260 Odense S
END:VEVENT
BEGIN:VEVENT
UID:gruppeweb.dk:4419:event:1462
DTSTAMP:20260420T023754Z
LAST-MODIFIED:20260213T224157Z
SUMMARY:Familiespejd møde
DESCRIPTION:\n
URL:https://www.polarstjernen.dk/begivenhed/familiespejd-moede-11
DTSTART:20251207T083000Z
DTEND:20251207T110000Z
LOCATION:Polarstjernen\, Stenløsevej 68\, Hjallese\, 5260 Odense S
END:VEVENT
BEGIN:VEVENT
UID:gruppeweb.dk:4419:event:1463
DTSTAMP:20260420T023754Z
LAST-MODIFIED:20260213T224150Z
SUMMARY:Familiespejd møde
DESCRIPTION:\n
URL:https://www.polarstjernen.dk/begivenhed/familiespejd-moede-12
DTSTART:20260301T083000Z
DTEND:20260301T110000Z
LOCATION:Polarstjernen\, Stenløsevej 68\, Hjallese\, 5260 Odense S
END:VEVENT
END:VCALENDAR
